BEGIN:VCALENDAR
VERSION:2.0
PRODID:spatie/icalendar-generator
DESCRIPTION:Events from Elgin Alumni Association
X-WR-CALDESC:Events from Elgin Alumni Association
REFRESH-INTERVAL;VALUE=DURATION:PT1440M
X-PUBLISHED-TTL:PT1440M
BEGIN:VTIMEZONE
TZID:America/Detroit
BEGIN:STANDARD
DTSTART:20251102T020000Z
TZOFFSETFROM:-0400
TZOFFSETTO:-0500
END:STANDARD
BEGIN:DAYLIGHT
DTSTART:20260308T020000Z
TZOFFSETFROM:-0500
TZOFFSETTO:-0400
END:DAYLIGHT
BEGIN:STANDARD
DTSTART:20261101T020000Z
TZOFFSETFROM:-0400
TZOFFSETTO:-0500
END:STANDARD
END:VTIMEZONE
BEGIN:VTIMEZONE
TZID:UTC
BEGIN:STANDARD
DTSTART:20250728T083139Z
TZOFFSETFROM:+0000
TZOFFSETTO:+0000
END:STANDARD
END:VTIMEZONE
BEGIN:VEVENT
UID:2093-66
DTSTAMP:20260424T083139Z
SUMMARY:Elgin Alumni Association Banquet
LOCATION:Elgin Cafeteria Keener Rd  Marion OHIO 43302
ORGANIZER;CN=WebAdmin:MAILTO:rdberry28@hotmail.com
DTSTART;TZID=America/Detroit:20260627T170000
DTEND;TZID=America/Detroit:20260627T210000
X-ALT-DESC;FMTTYPE=TEXT/HTML:
CATEGORIES:EAA Banquet
URL;VALUE=URI:https://elginalumni.org/mc-events/elgin-alumni-association-ba
 nquet-2/
METHOD:PUBLISH
END:VEVENT
END:VCALENDAR